BEGIN:VCALENDAR
VERSION:2.0
PRODID:-//bizbize - ECPv6.15.3//NONSGML v1.0//EN
CALSCALE:GREGORIAN
METHOD:PUBLISH
X-WR-CALNAME:bizbize
X-ORIGINAL-URL:https://bizbize.uk
X-WR-CALDESC:bizbize için etkinlikler
REFRESH-INTERVAL;VALUE=DURATION:PT1H
X-Robots-Tag:noindex
X-PUBLISHED-TTL:PT1H
BEGIN:VTIMEZONE
TZID:Europe/Moscow
BEGIN:STANDARD
TZOFFSETFROM:+0300
TZOFFSETTO:+0300
TZNAME:MSK
DTSTART:20260101T000000
END:STANDARD
END:VTIMEZONE
BEGIN:VEVENT
DTSTART;TZID=Europe/Moscow:20260420T193000
DTEND;TZID=Europe/Moscow:20260420T223000
DTSTAMP:20260420T164209
CREATED:20260223T085135Z
LAST-MODIFIED:20260223T085143Z
UID:10000043-1776713400-1776724200@bizbize.uk
SUMMARY:DOĞU DEMİRKOL
DESCRIPTION:DOĞU DEMİRKOL \n\n\n\nLocation : London\, UK \n\n\n\nVenue : The Shaw Theatre \n\n\n\nDoğu Demirkol is bringing his unmistakable stand-up style to London. \n\n\n\nWith a sharp\, no-filter take on everyday life\, Demirkol takes the stage at The Shaw Theatre on 20 April with his hit one-man show\, presented by Gigue Production and BKM Mutfak.  \n\n\n\nDrawing from his own experiences and the absurdities of daily life\, he delivers a fast\, honest and deeply relatable performance that connects across cultures.
URL:https://bizbize.uk/etkinlik/dogu-demirkol/2026-04-20/
CATEGORIES:Stand Up
ATTACH;FMTTYPE=image/png:https://bizbize.uk/wp-content/uploads/Dogu-Demirkol-photo-1.png
END:VEVENT
END:VCALENDAR